BEGIN:VCALENDAR
VERSION:2.0
PRODID:-//Plone.org//NONSGML plone.app.event//EN
X-WR-TIMEZONE:Europe/Vienna
BEGIN:VEVENT
SUMMARY:Speaking in Special Situations – Voice and Presentation Training
  for Doctoral Candidates
DTSTART;TZID=Europe/Vienna:20240610T100000
DTEND;TZID=Europe/Vienna:20240611T090000
DTSTAMP:20260423T153624Z
UID:a931d2d5170d469ea041d33d7aeff2c0@www.akbild.ac.at
CATEGORIES:Workshops
CREATED:20240207T083346Z
DESCRIPTION:This two-day workshop with Jella Jost teaches the basics of vo
 ice\, speech and language expression\, breathing\, modulation\, intonation
 \, the healthy use of the voice and its clarity as well as text compositio
 n.
LAST-MODIFIED:20240802T103342Z
URL:https://www.akbild.ac.at/en/research/events/workshops/2024/speaking-in
 -special-situations-voice-and-presentation-training-for-doctoral-candidate
 s
END:VEVENT
BEGIN:VTIMEZONE
TZID:Europe/Vienna
X-LIC-LOCATION:Europe/Vienna
BEGIN:DAYLIGHT
DTSTART:20240331T030000
TZNAME:CEST
TZOFFSETFROM:+0100
TZOFFSETTO:+0200
END:DAYLIGHT
END:VTIMEZONE
END:VCALENDAR
