BEGIN:VCALENDAR
VERSION:2.0
PRODID:-//Plone.org//NONSGML plone.app.event//EN
X-WR-TIMEZONE:Europe/Vienna
BEGIN:VEVENT
SUMMARY:Final steps: Submission of your PhD thesis and thesis defense / Ri
 gorosum
DTSTART;TZID=Europe/Vienna:20250115T130000
DTEND;TZID=Europe/Vienna:20250115T153000
DTSTAMP:20260423T153638Z
UID:46d4a7409f68476ab3793ce1d4bf9043@www.akbild.ac.at
CATEGORIES:Workshops
CREATED:20240604T121046Z
DESCRIPTION:How do I submit my dissertation or Ph.D. thesis? What exactly 
 does revocation application mean in AkademieOnline? How does this relate t
 o the planned publication of my dissertation thesis? Why can a plagiarism 
 check before submission be advisable? How and when can I register for my d
 efense or rigorosum?
LAST-MODIFIED:20250115T074256Z
URL:https://www.akbild.ac.at/en/research/events/workshops/2025/final-steps
 -submission-of-your-ph-d-thesis-and-thesis-defense
END:VEVENT
BEGIN:VTIMEZONE
TZID:Europe/Vienna
X-LIC-LOCATION:Europe/Vienna
BEGIN:STANDARD
DTSTART:20241027T020000
TZNAME:CET
TZOFFSETFROM:+0200
TZOFFSETTO:+0100
END:STANDARD
END:VTIMEZONE
END:VCALENDAR
