BEGIN:VCALENDAR
VERSION:2.0
PRODID:-//Plone.org//NONSGML plone.app.event//EN
X-WR-TIMEZONE:Europe/Vienna
BEGIN:VEVENT
SUMMARY:OeAW | DOC application writing (SuSe 2025)
DTSTART;TZID=Europe/Vienna:20250428T130000
DTEND;TZID=Europe/Vienna:20250428T160000
DTSTAMP:20260423T154431Z
UID:890e2e6f2fa2411e80182632781c2619@www.akbild.ac.at
CATEGORIES:Workshops
CREATED:20241121T101640Z
DESCRIPTION:The Center for Doctoral Studies invites all doctoral candidate
 s of the Academy of Fine Arts Vienna to participate in an informative meet
 ing about the preparation of an ÖAW DOC application.\nNote: This date has
  been moved from May to April 28.
LAST-MODIFIED:20250603T084050Z
URL:https://www.akbild.ac.at/en/research/events/workshops/2025/oeaw-doc-ap
 plication-writing-suse-2025
END:VEVENT
BEGIN:VTIMEZONE
TZID:Europe/Vienna
X-LIC-LOCATION:Europe/Vienna
BEGIN:DAYLIGHT
DTSTART:20250330T030000
TZNAME:CEST
TZOFFSETFROM:+0100
TZOFFSETTO:+0200
END:DAYLIGHT
END:VTIMEZONE
END:VCALENDAR
