BEGIN:VCALENDAR
VERSION:2.0
PRODID:-//Plone.org//NONSGML plone.app.event//EN
X-WR-TIMEZONE:Europe/Vienna
BEGIN:VEVENT
SUMMARY:Copyright - Citing correctly\, avoiding plagiarism
DTSTART;TZID=Europe/Vienna:20251126T100000
DTEND;TZID=Europe/Vienna:20251126T160000
DTSTAMP:20260422T181334Z
UID:0c48209be07e4e1a9515e47cfcf620df@www.akbild.ac.at
CREATED:20250902T132150Z
DESCRIPTION:The workshop deals with questions relating to copyright in dis
 sertations and provides information\, tips and background knowledge on how
  copyright must be taken into account when writing a dissertation.
LAST-MODIFIED:20251118T122233Z
URL:https://www.akbild.ac.at/en/research/events/workshops/2025/save-the-da
 te-copy-right
END:VEVENT
BEGIN:VTIMEZONE
TZID:Europe/Vienna
X-LIC-LOCATION:Europe/Vienna
BEGIN:STANDARD
DTSTART:20251026T020000
TZNAME:CET
TZOFFSETFROM:+0200
TZOFFSETTO:+0100
END:STANDARD
END:VTIMEZONE
END:VCALENDAR
