BEGIN:VCALENDAR
VERSION:2.0
PRODID:-//Plone.org//NONSGML plone.app.event//EN
X-WR-TIMEZONE:Europe/Vienna
BEGIN:VEVENT
SUMMARY:cancelled: OeAW DOC application writing (2026)
DTSTART;TZID=Europe/Vienna:20260422T130000
DTEND;TZID=Europe/Vienna:20260422T150000
DTSTAMP:20260422T021053Z
UID:aabc9b0729d74a989434cba0000405c6@www.akbild.ac.at
CATEGORIES:Workshops
CREATED:20250922T094532Z
DESCRIPTION:The Center for Doctoral Studies invites all doctoral candidate
 s of the Academy of Fine Arts Vienna interested in applying for the OeAW D
 OC grant to participate in this session\, which will address requirements\
 , preparation\, proposal writing\, and more. [Cancelled due to low registr
 ation numbers]
LAST-MODIFIED:20260414T121749Z
URL:https://www.akbild.ac.at/en/research/events/workshops/2026/oeaw-doc-ap
 plication-writing-2026
END:VEVENT
BEGIN:VTIMEZONE
TZID:Europe/Vienna
X-LIC-LOCATION:Europe/Vienna
BEGIN:DAYLIGHT
DTSTART:20260329T030000
TZNAME:CEST
TZOFFSETFROM:+0100
TZOFFSETTO:+0200
END:DAYLIGHT
END:VTIMEZONE
END:VCALENDAR
