BEGIN:VCALENDAR
VERSION:2.0
PRODID:-//Plone.org//NONSGML plone.app.event//EN
X-WR-TIMEZONE:Europe/Vienna
BEGIN:VEVENT
SUMMARY:The Power of Presence
DTSTART;TZID=Europe/Vienna:20260416T093000
DTEND;TZID=Europe/Vienna:20260416T170000
DTSTAMP:20260422T164225Z
UID:8eed321582af417ea4f5f0acb81a509f@www.akbild.ac.at
CATEGORIES:Workshops
CREATED:20251013T124840Z
DESCRIPTION:This presentation workshop for doctoral and PhD candidates dra
 ws on theatre\, performance\, and coaching practices and engages particip
 ants in guided exercises and reflection to ground oneself\, communicate wi
 th confidence\, and bring clarity and authenticity to one's work.
LAST-MODIFIED:20260414T115645Z
URL:https://www.akbild.ac.at/en/research/events/workshops/2026/the-power-o
 f-presence
END:VEVENT
BEGIN:VTIMEZONE
TZID:Europe/Vienna
X-LIC-LOCATION:Europe/Vienna
BEGIN:DAYLIGHT
DTSTART:20260329T030000
TZNAME:CEST
TZOFFSETFROM:+0100
TZOFFSETTO:+0200
END:DAYLIGHT
END:VTIMEZONE
END:VCALENDAR
