BEGIN:VCALENDAR
VERSION:2.0
PRODID:-//Plone.org//NONSGML plone.app.event//EN
X-WR-TIMEZONE:Europe/Vienna
BEGIN:VEVENT
SUMMARY:Artists' social security fund: who\, how much\, for what...?
DTSTART;TZID=Europe/Vienna:20231010T100000
DTEND;TZID=Europe/Vienna:20231010T113000
DTSTAMP:20260423T025751Z
UID:40fd0293e6a24966b0b974ec7e52912f@www.akbild.ac.at
CATEGORIES:Vorträge / Veranstaltungen
CREATED:20230830T090256Z
DESCRIPTION:The event is a cooperation of the Alumni Club of the Academy o
 f Fine Arts Vienna together with  the IG Bildende Kunst.
LAST-MODIFIED:20240802T102833Z
URL:https://www.akbild.ac.at/en/university/Graduates/events/2023/artists-s
 ocial-security-fund-who-how-much-for-what
END:VEVENT
BEGIN:VTIMEZONE
TZID:Europe/Vienna
X-LIC-LOCATION:Europe/Vienna
BEGIN:DAYLIGHT
DTSTART:20230326T030000
TZNAME:CEST
TZOFFSETFROM:+0100
TZOFFSETTO:+0200
END:DAYLIGHT
END:VTIMEZONE
END:VCALENDAR
