BEGIN:VCALENDAR
VERSION:2.0
PRODID:-//Plone.org//NONSGML plone.app.event//EN
X-WR-TIMEZONE:Europe/Vienna
BEGIN:VEVENT
SUMMARY:Preparing photos for printing
DTSTART;TZID=Europe/Vienna:20230926T140000
DTEND;TZID=Europe/Vienna:20230926T180000
DTSTAMP:20260423T012611Z
UID:9d21d748707a47478898fe5c2c56ee30@www.akbild.ac.at
CATEGORIES:Vorträge / Veranstaltungen
CREATED:20230830T083813Z
LAST-MODIFIED:20240802T102833Z
URL:https://www.akbild.ac.at/en/university/Graduates/events/2023/preparing
 -photos-for-printing
END:VEVENT
BEGIN:VTIMEZONE
TZID:Europe/Vienna
X-LIC-LOCATION:Europe/Vienna
BEGIN:DAYLIGHT
DTSTART:20230326T030000
TZNAME:CEST
TZOFFSETFROM:+0100
TZOFFSETTO:+0200
END:DAYLIGHT
END:VTIMEZONE
END:VCALENDAR
