BEGIN:VCALENDAR
VERSION:2.0
PRODID:-//Plone.org//NONSGML plone.app.event//EN
X-WR-TIMEZONE:Europe/Vienna
BEGIN:VEVENT
SUMMARY:Social insurance for the self-employed (SVS)
DTSTART;TZID=Europe/Vienna:20231005T100000
DTEND;TZID=Europe/Vienna:20231005T113000
DTSTAMP:20260423T025751Z
UID:e50027eb1ab2412986fd5cf3824f4bfe@www.akbild.ac.at
CATEGORIES:Vorträge / Veranstaltungen
CREATED:20230830T085755Z
DESCRIPTION:The event is a cooperation of the Alumni Club of the Academy o
 f Fine Arts Vienna together with  the IG Bildende Kunst.
LAST-MODIFIED:20240802T102833Z
URL:https://www.akbild.ac.at/en/university/Graduates/events/2023/social-in
 surance-for-the-self-employed-svs
END:VEVENT
BEGIN:VTIMEZONE
TZID:Europe/Vienna
X-LIC-LOCATION:Europe/Vienna
BEGIN:DAYLIGHT
DTSTART:20230326T030000
TZNAME:CEST
TZOFFSETFROM:+0100
TZOFFSETTO:+0200
END:DAYLIGHT
END:VTIMEZONE
END:VCALENDAR
