BEGIN:VCALENDAR
VERSION:2.0
PRODID:-//Plone.org//NONSGML plone.app.event//EN
X-WR-TIMEZONE:Europe/Vienna
BEGIN:VEVENT
SUMMARY:Super (Art) Market
DTSTART;TZID=Europe/Vienna:20231003T140000
DTEND;TZID=Europe/Vienna:20231003T160000
DTSTAMP:20260423T012728Z
UID:867ee40b1b634994ab4b9ba4ef14c199@www.akbild.ac.at
CATEGORIES:Vorträge / Veranstaltungen
CREATED:20230830T084342Z
LAST-MODIFIED:20240802T102833Z
URL:https://www.akbild.ac.at/en/university/Graduates/events/2023/super-art
 -market
END:VEVENT
BEGIN:VTIMEZONE
TZID:Europe/Vienna
X-LIC-LOCATION:Europe/Vienna
BEGIN:DAYLIGHT
DTSTART:20230326T030000
TZNAME:CEST
TZOFFSETFROM:+0100
TZOFFSETTO:+0200
END:DAYLIGHT
END:VTIMEZONE
END:VCALENDAR
