BEGIN:VCALENDAR
VERSION:2.0
PRODID:-//Plone.org//NONSGML plone.app.event//EN
X-WR-TIMEZONE:Europe/Vienna
BEGIN:VEVENT
SUMMARY:Calls for Papers - Design and Calculation of Project Proposals
DTSTART;VALUE=DATE:20240528
DTEND;VALUE=DATE:20240605
DTSTAMP:20260423T030936Z
UID:db50b560931d43d3997b20c3fdbdee79@www.akbild.ac.at
CATEGORIES:Vorträge / Veranstaltungen
CREATED:20240418T094533Z
DESCRIPTION:Two-part workshop with Lotte Lyon University of the Arts Linz.
 \nDates: 28.5.2024 and 4.6.2024\, each from 14:30 to 17:30 h.
LAST-MODIFIED:20240802T102833Z
URL:https://www.akbild.ac.at/en/university/Graduates/events/2024/calls-for
 -papers-design-and-calculation-of-project-proposals
END:VEVENT
END:VCALENDAR
