BEGIN:VCALENDAR
VERSION:2.0
PRODID:-//Plone.org//NONSGML plone.app.event//EN
X-WR-TIMEZONE:Europe/Vienna
BEGIN:VEVENT
SUMMARY:Forum for questions about project planning\, production\, calculat
 ion and presentation of art projects
DTSTART;TZID=Europe/Vienna:20240311T143000
DTEND;TZID=Europe/Vienna:20240311T163000
DTSTAMP:20260422T052740Z
UID:a28c1cd2948d47d5a1450ad984b3ca9e@www.akbild.ac.at
CATEGORIES:Vorträge / Veranstaltungen
CREATED:20240215T130553Z
DESCRIPTION:with Sabine Dortschy and Claudia Kaiser.
LAST-MODIFIED:20240802T102833Z
URL:https://www.akbild.ac.at/en/university/Graduates/events/2024/forum-for
 -questions-about-project-planning-production-calculation-and-presentation-
 of-art-projects
END:VEVENT
BEGIN:VTIMEZONE
TZID:Europe/Vienna
X-LIC-LOCATION:Europe/Vienna
BEGIN:STANDARD
DTSTART:20231029T020000
TZNAME:CET
TZOFFSETFROM:+0200
TZOFFSETTO:+0100
END:STANDARD
END:VTIMEZONE
END:VCALENDAR
