BEGIN:VCALENDAR
VERSION:2.0
PRODID:-//Plone.org//NONSGML plone.app.event//EN
X-WR-TIMEZONE:Europe/Vienna
BEGIN:VEVENT
SUMMARY:From Concept to Realization –   Submitting and Executing Project
 s with KÖR Kunst im öffentlichen Raum Wien
DTSTART;TZID=Europe/Vienna:20241024T140000
DTEND;TZID=Europe/Vienna:20241024T160000
DTSTAMP:20260422T052740Z
UID:71f6cb52d745465a8c9fd8fe0bd5c3c8@www.akbild.ac.at
CATEGORIES:Vorträge / Veranstaltungen
CREATED:20241008T073559Z
DESCRIPTION:An introductory workshop by Cornelia Offergeld\, Artistic Dir
 ector of KÖR Kunst im öffentlichen Raum Wien.
LAST-MODIFIED:20241008T073609Z
URL:https://www.akbild.ac.at/en/university/Graduates/events/2024/from-conc
 ept-to-realization-submitting-and-executing-projects-with-kor-kunst-im-off
 entlichen-raum-wien
END:VEVENT
BEGIN:VTIMEZONE
TZID:Europe/Vienna
X-LIC-LOCATION:Europe/Vienna
BEGIN:DAYLIGHT
DTSTART:20240331T030000
TZNAME:CEST
TZOFFSETFROM:+0100
TZOFFSETTO:+0200
END:DAYLIGHT
END:VTIMEZONE
END:VCALENDAR
