BEGIN:VCALENDAR
VERSION:2.0
PRODID:-//Plone.org//NONSGML plone.app.event//EN
X-WR-TIMEZONE:Europe/Vienna
BEGIN:VEVENT
SUMMARY:SHIFT - Information event on the Open Call
DTSTART;TZID=Europe/Vienna:20240408T173000
DTSTAMP:20260422T040202Z
UID:bf676f4485a740848394a36ba83a06d4@www.akbild.ac.at
CREATED:20240307T160606Z
DESCRIPTION:The new call for SHIFT\, the City of Vienna's funding program 
 for the independent art and culture scene\, is here!
LAST-MODIFIED:20240802T102833Z
URL:https://www.akbild.ac.at/en/university/Graduates/events/2024/shift-inf
 ormation-event-on-the-open-call
END:VEVENT
BEGIN:VTIMEZONE
TZID:Europe/Vienna
X-LIC-LOCATION:Europe/Vienna
BEGIN:DAYLIGHT
DTSTART:20240331T030000
TZNAME:CEST
TZOFFSETFROM:+0100
TZOFFSETTO:+0200
END:DAYLIGHT
END:VTIMEZONE
END:VCALENDAR
