BEGIN:VCALENDAR
VERSION:2.0
PRODID:-//Plone.org//NONSGML plone.app.event//EN
X-WR-TIMEZONE:Europe/Vienna
BEGIN:VEVENT
SUMMARY:Social Insurance: I Don’t Wanna Lose You
DTSTART;TZID=Europe/Vienna:20240925T100000
DTEND;TZID=Europe/Vienna:20240925T113000
DTSTAMP:20260422T040356Z
UID:de82b525deea498088abb198483433ea@www.akbild.ac.at
CREATED:20240829T141719Z
DESCRIPTION:Information event for self-employed artists in context of the 
 series Survival Training for Artists
LAST-MODIFIED:20240904T121810Z
URL:https://www.akbild.ac.at/en/university/Graduates/events/2024/social-in
 surance-i-dont-wanna-lose-you
END:VEVENT
BEGIN:VTIMEZONE
TZID:Europe/Vienna
X-LIC-LOCATION:Europe/Vienna
BEGIN:DAYLIGHT
DTSTART:20240331T030000
TZNAME:CEST
TZOFFSETFROM:+0100
TZOFFSETTO:+0200
END:DAYLIGHT
END:VTIMEZONE
END:VCALENDAR
