BEGIN:VCALENDAR
VERSION:2.0
PRODID:-//Plone.org//NONSGML plone.app.event//EN
X-WR-TIMEZONE:Europe/Vienna
BEGIN:VEVENT
SUMMARY:Akademie-Studio-Programm: Studio-Visit
DTSTART;TZID=Europe/Vienna:20250611T170000
DTSTAMP:20260421T171640Z
UID:8aeb818b08464d708baa403772d2146b@www.akbild.ac.at
CATEGORIES:Vorträge / Veranstaltungen
CREATED:20250603T142432Z
DESCRIPTION:The final event of the  Akademie Studio Program of the Academ
 y of Fine Arts Vienna\, with Ingeborg Erhart\, Barbara Pflanzner and the t
 eam of das weisse Haus.
LAST-MODIFIED:20250603T142517Z
URL:https://www.akbild.ac.at/en/university/Graduates/events/2025/akademie-
 studio-programm-studio-visit
END:VEVENT
BEGIN:VTIMEZONE
TZID:Europe/Vienna
X-LIC-LOCATION:Europe/Vienna
BEGIN:DAYLIGHT
DTSTART:20250330T030000
TZNAME:CEST
TZOFFSETFROM:+0100
TZOFFSETTO:+0200
END:DAYLIGHT
END:VTIMEZONE
END:VCALENDAR
