BEGIN:VCALENDAR
VERSION:2.0
PRODID:-//Plone.org//NONSGML plone.app.event//EN
X-WR-TIMEZONE:Europe/Vienna
BEGIN:VEVENT
SUMMARY:Vienna Humanities Festival 2024 - Uncharted / Neuland
DTSTART;VALUE=DATE:20240928
DTEND;VALUE=DATE:20240930
DTSTAMP:20260423T115132Z
UID:3a8c59258b9a4a5b93e5fdd71c3d5ef9@www.akbild.ac.at
CATEGORIES:Konferenzen
CREATED:20240606T091334Z
DESCRIPTION:The Vienna Humanities Festival once again invites renowned thi
 nkers to come together in Vienna and reflect on the fears\, hopes\, and bi
 g questions of our time. Admission is free.
LAST-MODIFIED:20250220T125306Z
URL:https://www.akbild.ac.at/en/university/events/conferences/2024/vienna-
 humanities-festival-2024-uncharted-neuland
END:VEVENT
END:VCALENDAR
