BEGIN:VCALENDAR
VERSION:2.0
PRODID:-//Plone.org//NONSGML plone.app.event//EN
X-WR-TIMEZONE:Europe/Vienna
BEGIN:VEVENT
SUMMARY:Columns
DTSTART;TZID=Europe/Vienna:20081014T190000
DTSTAMP:20260424T085139Z
UID:ef0b652d2542bede8348ed7498fe21be@www.akbild.ac.at
CREATED:20220312T163347Z
DESCRIPTION:Exhibition project of the Academy of Fine Arts Vienna in coope
 ration with DER STANDARD on the occasion of the daily’s 20th anniversary
 .
LAST-MODIFIED:20240802T103007Z
URL:https://www.akbild.ac.at/en/university/events/exhibitions_didacticprog
 ram/2008/columns/SubEvent
END:VEVENT
BEGIN:VTIMEZONE
TZID:Europe/Vienna
X-LIC-LOCATION:Europe/Vienna
BEGIN:DAYLIGHT
DTSTART:20080330T030000
TZNAME:CEST
TZOFFSETFROM:+0100
TZOFFSETTO:+0200
END:DAYLIGHT
END:VTIMEZONE
END:VCALENDAR
