BEGIN:VCALENDAR
VERSION:2.0
PRODID:-//Plone.org//NONSGML plone.app.event//EN
X-WR-TIMEZONE:Europe/Vienna
BEGIN:VEVENT
SUMMARY:Diploma Exhibition and Diploma Awarding Ceremony 07|08
DTSTART;TZID=Europe/Vienna:20080624T190000
DTSTAMP:20260423T114038Z
UID:5797422bcad0ba4e80e669fc223e570d@www.akbild.ac.at
CREATED:20220312T163328Z
LAST-MODIFIED:20240802T103007Z
URL:https://www.akbild.ac.at/en/university/events/exhibitions_didacticprog
 ram/2008/diploma-exhibition-and-diploma-awarding-ceremony-07-08/SubEvent
END:VEVENT
BEGIN:VTIMEZONE
TZID:Europe/Vienna
X-LIC-LOCATION:Europe/Vienna
BEGIN:DAYLIGHT
DTSTART:20080330T030000
TZNAME:CEST
TZOFFSETFROM:+0100
TZOFFSETTO:+0200
END:DAYLIGHT
END:VTIMEZONE
END:VCALENDAR
