BEGIN:VCALENDAR
VERSION:2.0
PRODID:-//Plone.org//NONSGML plone.app.event//EN
X-WR-TIMEZONE:Europe/Vienna
BEGIN:VEVENT
SUMMARY:Changing Sides | Anemona Crisan
DTSTART;TZID=Europe/Vienna:20090122T160000
DTSTAMP:20260424T003006Z
UID:10eadc24b500e0196bdc89346e0c3ba5@www.akbild.ac.at
CREATED:20220312T163707Z
DESCRIPTION:Opening Hours: Thur 4–10 pm\, Fri–Sun 10–8 pm\, free adm
 ission
LAST-MODIFIED:20240802T103003Z
URL:https://www.akbild.ac.at/en/university/events/exhibitions_didacticprog
 ram/2009/changing-sides-anemona-crisan/SubEvent
END:VEVENT
BEGIN:VTIMEZONE
TZID:Europe/Vienna
X-LIC-LOCATION:Europe/Vienna
BEGIN:STANDARD
DTSTART:20081026T020000
TZNAME:CET
TZOFFSETFROM:+0200
TZOFFSETTO:+0100
END:STANDARD
END:VTIMEZONE
END:VCALENDAR
