BEGIN:VCALENDAR
VERSION:2.0
PRODID:-//Plone.org//NONSGML plone.app.event//EN
X-WR-TIMEZONE:Europe/Vienna
BEGIN:VEVENT
SUMMARY:Open days 2017
DTSTART;VALUE=DATE:20170119
DTEND;VALUE=DATE:20170123
DTSTAMP:20260424T052433Z
UID:d8eb67efe5f3560af975b9e0c23fea4d@www.akbild.ac.at
CATEGORIES:Ausstellungen
CREATED:20220312T164039Z
DESCRIPTION:Thu\, 19.01.2017\, 4:00 pm - 12:00 m\n \n Fri\, 20.01.2017\, 1
 0:00 am - 10:00 pm\n \n Sat\, 21.01.2017\, 12:00 am - 10:00 pm\n \n Sun\, 
 22.01.2017\, 12:00 am - 6:00 pm\n\n\n Main buiding | Schillerplatz 3 | 101
 0 Vienna\n \n Studio building | Lehárgasse 8 | 1060 Vienna\n \n Sculpture
  studios | Kurzbauergasse 9 | 1020 Vienna\n \n Institute building | Karl S
 chweighofergasse 3 | 1070 Vienna
LAST-MODIFIED:20240802T102959Z
URL:https://www.akbild.ac.at/en/university/events/exhibitions_didacticprog
 ram/2017/open-days-2017
END:VEVENT
END:VCALENDAR
