BEGIN:VCALENDAR
VERSION:2.0
PRODID:-//Plone.org//NONSGML plone.app.event//EN
X-WR-TIMEZONE:Europe/Vienna
BEGIN:VEVENT
SUMMARY:Jessica Kim: Exhibition at magdas HOTEL
DTSTART;TZID=Europe/Vienna:20180515T190000
DTSTAMP:20260424T113057Z
UID:6566e1d3c06d68e90f9727f78ddecfac@www.akbild.ac.at
CREATED:20220312T164139Z
DESCRIPTION:Vernissage and DJ-Line in the Series of “Young artists at ma
 gdas HOTEL”\, a cooperation of\n \n  mag\n \n das HOTEL and the Academy 
 of Fine Arts Vienna.
LAST-MODIFIED:20240802T102959Z
URL:https://www.akbild.ac.at/en/university/events/exhibitions_didacticprog
 ram/2018/jessica-kim-exhibition-at-magdas-hotel/SubEvent
END:VEVENT
BEGIN:VTIMEZONE
TZID:Europe/Vienna
X-LIC-LOCATION:Europe/Vienna
BEGIN:DAYLIGHT
DTSTART:20180325T030000
TZNAME:CEST
TZOFFSETFROM:+0100
TZOFFSETTO:+0200
END:DAYLIGHT
END:VTIMEZONE
END:VCALENDAR
