BEGIN:VCALENDAR
VERSION:2.0
PRODID:-//Plone.org//NONSGML plone.app.event//EN
X-WR-TIMEZONE:Europe/Vienna
BEGIN:VEVENT
SUMMARY:Thesis Exhibition 18-19
DTSTART;TZID=Europe/Vienna:20190618T160000
DTSTAMP:20260424T090731Z
UID:9b531b7afee17840ca2d8930f81de675@www.akbild.ac.at
CREATED:20220312T164207Z
DESCRIPTION:Addresses:\n \n \n xE – Exhibition room of the Academy of Fi
 ne Arts Vienna\, Eschenbachgasse 11\, Corner Getreidemarkt\, 1010 Vienna\n
  \n Main buliding | Augasse 2-6 | 1090 Vienna\n \n Studio building | Lehar
 gasse 8 | 1060 Vienna\n \n Sculpture studios | Kurzbauergasse 9 | 1020 Vie
 nna\n \n \n  \n  Opening hours:\n \n \n Exhibition xE: Tue-Fri\, 11.00 a.m
 . - 6.00 p.m.\, Sat 11.00 a.m.-3.00 p.m.\, closed on Sun\, Mon and holiday
 \n \n Presentation in all buildings: Tue-Sun\, 2.00 p.m. - 6.00 p.m.\, clo
 sed on Mon and holiday
LAST-MODIFIED:20240802T102959Z
URL:https://www.akbild.ac.at/en/university/events/exhibitions_didacticprog
 ram/2019/thesis-exhibition-18-19/SubEvent
END:VEVENT
BEGIN:VTIMEZONE
TZID:Europe/Vienna
X-LIC-LOCATION:Europe/Vienna
BEGIN:DAYLIGHT
DTSTART:20190331T030000
TZNAME:CEST
TZOFFSETFROM:+0100
TZOFFSETTO:+0200
END:DAYLIGHT
END:VTIMEZONE
END:VCALENDAR
