BEGIN:VCALENDAR
VERSION:2.0
PRODID:-//Plone.org//NONSGML plone.app.event//EN
X-WR-TIMEZONE:Europe/Vienna
BEGIN:VEVENT
SUMMARY:Parcours. Abschlussarbeiten. 2021
DTSTART;TZID=Europe/Vienna:20210615T140000
DTSTAMP:20260423T230452Z
UID:796b7d9ef325b467fb09313be33682bd@www.akbild.ac.at
CREATED:20220312T164243Z
DESCRIPTION:This year's exhibition of the final works of the Academy of Fi
 ne Arts Vienna runs as a parcours through the city and presents at four lo
 cations of the university about 90 final works of the most diverse fields 
 of study and departments of the Institute of Fine Arts\, the Institute of 
 Art and Architecture as well as the Institute of Education in the Arts.
LAST-MODIFIED:20240802T102959Z
URL:https://www.akbild.ac.at/en/university/events/exhibitions_didacticprog
 ram/2021/parcours.-abschlussarbeiten.-2021/SubEvent
END:VEVENT
BEGIN:VTIMEZONE
TZID:Europe/Vienna
X-LIC-LOCATION:Europe/Vienna
BEGIN:DAYLIGHT
DTSTART:20210328T030000
TZNAME:CEST
TZOFFSETFROM:+0100
TZOFFSETTO:+0200
END:DAYLIGHT
END:VTIMEZONE
END:VCALENDAR
