BEGIN:VCALENDAR
VERSION:2.0
PRODID:-//Plone.org//NONSGML plone.app.event//EN
X-WR-TIMEZONE:Europe/Vienna
BEGIN:VEVENT
SUMMARY:My View - Artis Talk
DTSTART;TZID=Europe/Vienna:20220520T173000
DTSTAMP:20260424T185741Z
UID:0264fe08185b425fa9b548c8a86a49d4@www.akbild.ac.at
CATEGORIES:Vorträge / Veranstaltungen
CREATED:20220506T121518Z
DESCRIPTION:Joint guided tour of the exhibition Handspells. Kunsthalle Wie
 n Prize 2021 with Nora Severios and Judith Benz-Schwarzburg.
LAST-MODIFIED:20240802T102955Z
URL:https://www.akbild.ac.at/en/university/events/exhibitions_didacticprog
 ram/2022/handspells.-preis-der-kunsthalle-wien-2021/my-view-artis-talk
END:VEVENT
BEGIN:VTIMEZONE
TZID:Europe/Vienna
X-LIC-LOCATION:Europe/Vienna
BEGIN:DAYLIGHT
DTSTART:20220327T030000
TZNAME:CEST
TZOFFSETFROM:+0100
TZOFFSETTO:+0200
END:DAYLIGHT
END:VTIMEZONE
END:VCALENDAR
