BEGIN:VCALENDAR
VERSION:2.0
PRODID:-//Plone.org//NONSGML plone.app.event//EN
X-WR-TIMEZONE:Europe/Vienna
BEGIN:VEVENT
SUMMARY:Survive\, Subsist and Resist
DTSTART;TZID=Europe/Vienna:20220513T190000
DTEND;TZID=Europe/Vienna:20220513T203000
DTSTAMP:20260424T181346Z
UID:1f741efbdd1c467b968943b706fbfc1e@www.akbild.ac.at
CATEGORIES:Vorträge / Veranstaltungen
CREATED:20220503T121251Z
DESCRIPTION:Discussion with Sheri Avraham\, Johan Frederik Hartle\, Anna S
 panlang and Chin Tsao. An event in the context of the exhibition Handspel
 ls. Kunsthalle Wien Prize 2021 in English.
LAST-MODIFIED:20240802T102955Z
URL:https://www.akbild.ac.at/en/university/events/exhibitions_didacticprog
 ram/2022/handspells.-preis-der-kunsthalle-wien-2021/survive-subsist-and-re
 sist
END:VEVENT
BEGIN:VTIMEZONE
TZID:Europe/Vienna
X-LIC-LOCATION:Europe/Vienna
BEGIN:DAYLIGHT
DTSTART:20220327T030000
TZNAME:CEST
TZOFFSETFROM:+0100
TZOFFSETTO:+0200
END:DAYLIGHT
END:VTIMEZONE
END:VCALENDAR
