BEGIN:VCALENDAR
VERSION:2.0
PRODID:-//Plone.org//NONSGML plone.app.event//EN
X-WR-TIMEZONE:Europe/Vienna
BEGIN:VEVENT
SUMMARY:Opening: THE BLUE\, THE PINK\, THE IMMATERIAL\, THE VOID
DTSTART;TZID=Europe/Vienna:20220519T180000
DTSTAMP:20260424T034858Z
UID:7b8328082ec54bae8e5ad7b6f7b20cc1@www.akbild.ac.at
CATEGORIES:Vorträge / Veranstaltungen
CREATED:20220506T113216Z
DESCRIPTION:Performance by Tamu Nkiwane\, 7pm
LAST-MODIFIED:20240802T102959Z
URL:https://www.akbild.ac.at/en/university/events/exhibitions_didacticprog
 ram/2022/opening-the-blue-the-pink-the-immaterial-the-void
END:VEVENT
BEGIN:VTIMEZONE
TZID:Europe/Vienna
X-LIC-LOCATION:Europe/Vienna
BEGIN:DAYLIGHT
DTSTART:20220327T030000
TZNAME:CEST
TZOFFSETFROM:+0100
TZOFFSETTO:+0200
END:DAYLIGHT
END:VTIMEZONE
END:VCALENDAR
