BEGIN:VCALENDAR
VERSION:2.0
PRODID:-//Plone.org//NONSGML plone.app.event//EN
X-WR-TIMEZONE:Europe/Vienna
BEGIN:VEVENT
SUMMARY:Atelier der Schnecken
DTSTART;VALUE=DATE:20230119
DTEND;VALUE=DATE:20230123
DTSTAMP:20260423T110913Z
UID:3b528c6b26204e68b541b7f2245545d6@www.akbild.ac.at
CATEGORIES:Ausstellungen
CREATED:20230109T133910Z
DESCRIPTION:Exhibition of the Studio for Figurative Painting.
LAST-MODIFIED:20240802T102955Z
URL:https://www.akbild.ac.at/en/university/events/exhibitions_didacticprog
 ram/2023/open-days-2023/atelier-der-schnecken
END:VEVENT
END:VCALENDAR
