BEGIN:VCALENDAR
VERSION:2.0
PRODID:-//Plone.org//NONSGML plone.app.event//EN
X-WR-TIMEZONE:Europe/Vienna
BEGIN:VEVENT
SUMMARY:Contemporary Art at the Crossroads of the Social and the Political
DTSTART;TZID=Europe/Vienna:20230120T100000
DTEND;TZID=Europe/Vienna:20230120T180000
DTSTAMP:20260423T100346Z
UID:8d576eca4db6433091ee61a4caf84a7c@www.akbild.ac.at
CATEGORIES:Ausstellungen
CREATED:20221213T141449Z
DESCRIPTION:Presentation of works BIP VISITS PCAP: THE 2023 TOUR\, talks w
 ith Art Cuisine brunch12.00–15.00 Tour through the Rundgang of the Acade
 my of Fine Arts Vienna
LAST-MODIFIED:20240802T102951Z
URL:https://www.akbild.ac.at/en/university/events/exhibitions_didacticprog
 ram/2023/open-days-2023/copy_of_contemporary-art-at-the-crossroads-of-the-
 social-and-the-political
END:VEVENT
BEGIN:VTIMEZONE
TZID:Europe/Vienna
X-LIC-LOCATION:Europe/Vienna
BEGIN:STANDARD
DTSTART:20221030T020000
TZNAME:CET
TZOFFSETFROM:+0200
TZOFFSETTO:+0100
END:STANDARD
END:VTIMEZONE
END:VCALENDAR
