BEGIN:VCALENDAR
VERSION:2.0
PRODID:-//Plone.org//NONSGML plone.app.event//EN
X-WR-TIMEZONE:Europe/Vienna
BEGIN:VEVENT
SUMMARY:DAS EDITH 2023
DTSTART;VALUE=DATE:20230119
DTEND;VALUE=DATE:20230123
DTSTAMP:20260423T110751Z
UID:04d678e952ae417984e092b6e7fd9c3c@www.akbild.ac.at
CATEGORIES:Ausstellungen
CREATED:20221213T100429Z
DESCRIPTION:Studio Graphic Arts and Printmaking TechniquesOpening\, 19.1.\
 , 19 h
LAST-MODIFIED:20240802T102951Z
URL:https://www.akbild.ac.at/en/university/events/exhibitions_didacticprog
 ram/2023/open-days-2023/das-edith-2023
END:VEVENT
END:VCALENDAR
