BEGIN:VCALENDAR
VERSION:2.0
PRODID:-//Plone.org//NONSGML plone.app.event//EN
X-WR-TIMEZONE:Europe/Vienna
BEGIN:VEVENT
SUMMARY:Studio for Sculpture and Installation
DTSTART;VALUE=DATE:20230119
DTEND;VALUE=DATE:20230123
DTSTAMP:20260423T110919Z
UID:ca9aa378be8244529e75417c9eeedac2@www.akbild.ac.at
CATEGORIES:Ausstellungen
CREATED:20221216T141846Z
DESCRIPTION:The studio for Sculpture and Installation cordially invites ev
 eryone to visit the exhibition in the students' workrooms.
LAST-MODIFIED:20240802T102955Z
URL:https://www.akbild.ac.at/en/university/events/exhibitions_didacticprog
 ram/2023/open-days-2023/exhibition-of-the-studio-for-sculpture-and-install
 ation
END:VEVENT
END:VCALENDAR
