BEGIN:VCALENDAR
VERSION:2.0
PRODID:-//Plone.org//NONSGML plone.app.event//EN
X-WR-TIMEZONE:Europe/Vienna
BEGIN:VEVENT
SUMMARY:IKA Works
DTSTART;VALUE=DATE:20230119
DTEND;VALUE=DATE:20230123
DTSTAMP:20260423T110753Z
UID:5a3df091c366429c8c4f11602c4ff222@www.akbild.ac.at
CATEGORIES:Ausstellungen
CREATED:20221215T123253Z
DESCRIPTION:Exhibition of architectural design projects from the winter se
 mester 22/23
LAST-MODIFIED:20240802T102951Z
URL:https://www.akbild.ac.at/en/university/events/exhibitions_didacticprog
 ram/2023/open-days-2023/ika-works
END:VEVENT
END:VCALENDAR
