BEGIN:VCALENDAR
VERSION:2.0
PRODID:-//Plone.org//NONSGML plone.app.event//EN
X-WR-TIMEZONE:Europe/Vienna
BEGIN:VEVENT
SUMMARY:Laboratory: [em]on the possibility of glass beetles[/em]
DTSTART;TZID=Europe/Vienna:20230119T170000
DTEND;TZID=Europe/Vienna:20230119T200000
DTSTAMP:20260423T093557Z
UID:9dd70d441824478b9b96e4e2c2bb8b85@www.akbild.ac.at
CATEGORIES:Vorträge / Veranstaltungen
CREATED:20221216T152534Z
DESCRIPTION:Performance by Inessa SaaritsStudio for Expanded Pictorial Spa
 ce-Action/Sculpture/Installation
LAST-MODIFIED:20240802T102955Z
URL:https://www.akbild.ac.at/en/university/events/exhibitions_didacticprog
 ram/2023/open-days-2023/laboratory-em-on-the-possibility-of-glass-beetles-
 em-3
END:VEVENT
BEGIN:VTIMEZONE
TZID:Europe/Vienna
X-LIC-LOCATION:Europe/Vienna
BEGIN:STANDARD
DTSTART:20221030T020000
TZNAME:CET
TZOFFSETFROM:+0200
TZOFFSETTO:+0100
END:STANDARD
END:VTIMEZONE
END:VCALENDAR
