BEGIN:VCALENDAR
VERSION:2.0
PRODID:-//Plone.org//NONSGML plone.app.event//EN
X-WR-TIMEZONE:Europe/Vienna
BEGIN:VEVENT
SUMMARY:Mini exhibition: AGIDS X IKL X PROSA – EmbroideryART!
DTSTART;VALUE=DATE:20230119
DTEND;VALUE=DATE:20230122
DTSTAMP:20260423T110919Z
UID:605576e34dc44481bce59e0bc7638341@www.akbild.ac.at
CATEGORIES:Ausstellungen
CREATED:20221214T141636Z
DESCRIPTION:This exhibition shows glimpses of the cooperation between Acad
 emy goes to school (AgidS) und PROSA – Projekt Schule für Alle!\, this 
 time on the subject of embroidery.
LAST-MODIFIED:20240802T102951Z
URL:https://www.akbild.ac.at/en/university/events/exhibitions_didacticprog
 ram/2023/open-days-2023/mini-exhibition-agids-x-ikl-x-prosa-embroideryart
END:VEVENT
END:VCALENDAR
