BEGIN:VCALENDAR
VERSION:2.0
PRODID:-//Plone.org//NONSGML plone.app.event//EN
X-WR-TIMEZONE:Europe/Vienna
BEGIN:VEVENT
SUMMARY:nicht die regel – A documentary film about endometriosis (Ranya 
 Schauenstein\, 2021\, OV w/ German subtitles\, 73 minutes)
DTSTART;TZID=Europe/Vienna:20230120T180000
DTEND;TZID=Europe/Vienna:20230120T210000
DTSTAMP:20260423T064736Z
UID:610ddd0be571446ea85622cbd46b3038@www.akbild.ac.at
CATEGORIES:Vorträge / Veranstaltungen
CREATED:20221216T092812Z
DESCRIPTION:A project by Kathrina Duller (IKA) organized by the Student Un
 ion of the Academy. After the screening of the original German version wit
 h German subtitles\, a testimonial and a (partly FLINTA*-only) discussion 
 will take place.
LAST-MODIFIED:20240802T102955Z
URL:https://www.akbild.ac.at/en/university/events/exhibitions_didacticprog
 ram/2023/open-days-2023/nicht-die-regel-a-documentary-film-about-endometri
 osis-ranya-schauenstein-2021-ov-w-german-subtitles-73-minutes
END:VEVENT
BEGIN:VTIMEZONE
TZID:Europe/Vienna
X-LIC-LOCATION:Europe/Vienna
BEGIN:STANDARD
DTSTART:20221030T020000
TZNAME:CET
TZOFFSETFROM:+0200
TZOFFSETTO:+0100
END:STANDARD
END:VTIMEZONE
END:VCALENDAR
