BEGIN:VCALENDAR
VERSION:2.0
PRODID:-//Plone.org//NONSGML plone.app.event//EN
X-WR-TIMEZONE:Europe/Vienna
BEGIN:VEVENT
SUMMARY:Observations in Urban Space
DTSTART;VALUE=DATE:20230119
DTEND;VALUE=DATE:20230123
DTSTAMP:20260423T110827Z
UID:fef7b60f700a446d874f0a4e53dd9898@www.akbild.ac.at
CATEGORIES:Ausstellungen
CREATED:20221219T122447Z
DESCRIPTION:Presentation of the students of the studio for Art and Photogr
 aphy\, Prof. Martin Guttmann
LAST-MODIFIED:20240802T102955Z
URL:https://www.akbild.ac.at/en/university/events/exhibitions_didacticprog
 ram/2023/open-days-2023/observations-in-urban-space
END:VEVENT
END:VCALENDAR
