BEGIN:VCALENDAR
VERSION:2.0
PRODID:-//Plone.org//NONSGML plone.app.event//EN
X-WR-TIMEZONE:Europe/Vienna
BEGIN:VEVENT
SUMMARY:Sanna Lu Una
DTSTART;TZID=Europe/Vienna:20230119T190000
DTSTAMP:20260423T093359Z
UID:64c8cc9fe7d247ac87c43b56c9101dcf@www.akbild.ac.at
CATEGORIES:Vorträge / Veranstaltungen
CREATED:20230111T160723Z
DESCRIPTION:Live performance in the context of the opening of the exhibiti
 on I can (not) handle this at Exhibit Studio.
LAST-MODIFIED:20240802T102955Z
URL:https://www.akbild.ac.at/en/university/events/exhibitions_didacticprog
 ram/2023/open-days-2023/performance-sanna-lu-una
END:VEVENT
BEGIN:VTIMEZONE
TZID:Europe/Vienna
X-LIC-LOCATION:Europe/Vienna
BEGIN:STANDARD
DTSTART:20221030T020000
TZNAME:CET
TZOFFSETFROM:+0200
TZOFFSETTO:+0100
END:STANDARD
END:VTIMEZONE
END:VCALENDAR
