BEGIN:VCALENDAR
VERSION:2.0
PRODID:-//Plone.org//NONSGML plone.app.event//EN
X-WR-TIMEZONE:Europe/Vienna
BEGIN:VEVENT
SUMMARY:Science Cube
DTSTART;VALUE=DATE:20230119
DTEND;VALUE=DATE:20230122
DTSTAMP:20260423T110634Z
UID:46b62cd295bf41c382943f938b224905@www.akbild.ac.at
CATEGORIES:Ausstellungen
CREATED:20221213T101708Z
DESCRIPTION:Science cube concept based on a cube-shaped installation (vide
 o and posters) showing the research and projects carried out at INTK from 
 a new perspective.
LAST-MODIFIED:20240802T102951Z
URL:https://www.akbild.ac.at/en/university/events/exhibitions_didacticprog
 ram/2023/open-days-2023/science-cube
END:VEVENT
END:VCALENDAR
