BEGIN:VCALENDAR
VERSION:2.0
PRODID:-//Plone.org//NONSGML plone.app.event//EN
X-WR-TIMEZONE:Europe/Vienna
BEGIN:VEVENT
SUMMARY:The Academy at the Parallel 2023
DTSTART;VALUE=DATE:20230905
DTEND;VALUE=DATE:20230911
DTSTAMP:20260424T002001Z
UID:a10d465fff7349839ce62d26e2e59c76@www.akbild.ac.at
CATEGORIES:Ausstellungen
CREATED:20230901T092800Z
DESCRIPTION:PARALLEL VIENNA takes place for the 11th time in Vienna and st
 icks to its approach of using temporarily vacant buildings as a presentati
 on platform for contemporary art.
LAST-MODIFIED:20240802T102955Z
URL:https://www.akbild.ac.at/en/university/events/exhibitions_didacticprog
 ram/2023/the-academy-at-the-parallel-2023
END:VEVENT
END:VCALENDAR
