BEGIN:VCALENDAR
VERSION:2.0
PRODID:-//Plone.org//NONSGML plone.app.event//EN
X-WR-TIMEZONE:Europe/Vienna
BEGIN:VEVENT
SUMMARY:dancing within\, dancing without
DTSTART;TZID=Europe/Vienna:20240308T180000
DTSTAMP:20260423T110716Z
UID:5000b830c0ae4f949a4a628f1e23fff7@www.akbild.ac.at
CATEGORIES:Vorträge / Veranstaltungen
CREATED:20240306T095806Z
DESCRIPTION:Exhibition project with graduates of the Academy of Fine Arts 
 Vienna\, curated by Guilherme Pires Mata and Sarah Kolb.
LAST-MODIFIED:20240802T102951Z
URL:https://www.akbild.ac.at/en/university/events/exhibitions_didacticprog
 ram/2024/dancing-within-dancing-without/dancing-within-dancing-without-1
END:VEVENT
BEGIN:VTIMEZONE
TZID:Europe/Vienna
X-LIC-LOCATION:Europe/Vienna
BEGIN:STANDARD
DTSTART:20231029T020000
TZNAME:CET
TZOFFSETFROM:+0200
TZOFFSETTO:+0100
END:STANDARD
END:VTIMEZONE
END:VCALENDAR
