BEGIN:VCALENDAR
VERSION:2.0
PRODID:-//Plone.org//NONSGML plone.app.event//EN
X-WR-TIMEZONE:Europe/Vienna
BEGIN:VEVENT
SUMMARY:Artificial Intelligence and Artificial Soul
DTSTART;TZID=Europe/Vienna:20240119T163000
DTEND;TZID=Europe/Vienna:20240119T180000
DTSTAMP:20260424T140010Z
UID:d487a5dd8b6240c59c57fd690cbbbe1b@www.akbild.ac.at
CATEGORIES:Vorträge / Veranstaltungen
CREATED:20231221T125720Z
DESCRIPTION:Inaugural lecture by Joshua Simon\, impulse professorship at I
 KW 2023/24
LAST-MODIFIED:20240802T102944Z
URL:https://www.akbild.ac.at/en/university/events/exhibitions_didacticprog
 ram/2024/open-days-2024/artificial-intelligence-and-artificial-soul
END:VEVENT
BEGIN:VTIMEZONE
TZID:Europe/Vienna
X-LIC-LOCATION:Europe/Vienna
BEGIN:STANDARD
DTSTART:20231029T020000
TZNAME:CET
TZOFFSETFROM:+0200
TZOFFSETTO:+0100
END:STANDARD
END:VTIMEZONE
END:VCALENDAR
