BEGIN:VCALENDAR
VERSION:2.0
PRODID:-//Plone.org//NONSGML plone.app.event//EN
X-WR-TIMEZONE:Europe/Vienna
BEGIN:VEVENT
SUMMARY:Branch Library at the Institute for Education in the Arts – Open
 ing and Presentation
DTSTART;TZID=Europe/Vienna:20240119T140000
DTEND;TZID=Europe/Vienna:20240119T160000
DTSTAMP:20260423T114330Z
UID:a13f9faed2f746688d000614aefa8b1a@www.akbild.ac.at
CATEGORIES:Vorträge / Veranstaltungen
CREATED:20231220T090322Z
DESCRIPTION:Opening and presentation of the newly designed library at the 
 Institute for Education in the Arts
LAST-MODIFIED:20240802T102944Z
URL:https://www.akbild.ac.at/en/university/events/exhibitions_didacticprog
 ram/2024/open-days-2024/branch-library-at-the-institute-for-education-in-t
 he-arts-opening-and-presentation
END:VEVENT
BEGIN:VTIMEZONE
TZID:Europe/Vienna
X-LIC-LOCATION:Europe/Vienna
BEGIN:STANDARD
DTSTART:20231029T020000
TZNAME:CET
TZOFFSETFROM:+0200
TZOFFSETTO:+0100
END:STANDARD
END:VTIMEZONE
END:VCALENDAR
