BEGIN:VCALENDAR
VERSION:2.0
PRODID:-//Plone.org//NONSGML plone.app.event//EN
X-WR-TIMEZONE:Europe/Vienna
BEGIN:VEVENT
SUMMARY:Care Café – sharing practical case studies
DTSTART;TZID=Europe/Vienna:20240119T180000
DTEND;TZID=Europe/Vienna:20240119T200000
DTSTAMP:20260422T040201Z
UID:af5d9c60e00740e3ac3606ca89659a6e@www.akbild.ac.at
CATEGORIES:Vorträge / Veranstaltungen
CREATED:20231218T153529Z
DESCRIPTION:Hosted by Małgorzata Oliwa\, Tobias Dörler\, Sophie Lingg\, 
 in collaboration with students at the Institute for Education in the Arts 
 (IKL) and pupils from Viennese schools.
LAST-MODIFIED:20240802T102944Z
URL:https://www.akbild.ac.at/en/university/events/exhibitions_didacticprog
 ram/2024/open-days-2024/care-cafe-sharing-practical-case-studies
END:VEVENT
BEGIN:VTIMEZONE
TZID:Europe/Vienna
X-LIC-LOCATION:Europe/Vienna
BEGIN:STANDARD
DTSTART:20231029T020000
TZNAME:CET
TZOFFSETFROM:+0200
TZOFFSETTO:+0100
END:STANDARD
END:VTIMEZONE
END:VCALENDAR
