BEGIN:VCALENDAR
VERSION:2.0
PRODID:-//Plone.org//NONSGML plone.app.event//EN
X-WR-TIMEZONE:Europe/Vienna
BEGIN:VEVENT
SUMMARY:Guided Tour Lehárgasse
DTSTART;TZID=Europe/Vienna:20240119T150000
DTSTAMP:20260424T120607Z
UID:4880955ef875405390fcd0f7b2bd7cd7@www.akbild.ac.at
CATEGORIES:Führungen
CREATED:20240102T110645Z
DESCRIPTION:Guided tour through the Academy building at Schillerplatz for 
 people interested in studying at the Academy.
LAST-MODIFIED:20240802T102948Z
URL:https://www.akbild.ac.at/en/university/events/exhibitions_didacticprog
 ram/2024/open-days-2024/copy2_of_guided-tour-schillerplatz
END:VEVENT
BEGIN:VTIMEZONE
TZID:Europe/Vienna
X-LIC-LOCATION:Europe/Vienna
BEGIN:STANDARD
DTSTART:20231029T020000
TZNAME:CET
TZOFFSETFROM:+0200
TZOFFSETTO:+0100
END:STANDARD
END:VTIMEZONE
END:VCALENDAR
