BEGIN:VCALENDAR
VERSION:2.0
PRODID:-//Plone.org//NONSGML plone.app.event//EN
X-WR-TIMEZONE:Europe/Vienna
BEGIN:VEVENT
SUMMARY:Ewiges Süppchen
DTSTART;TZID=Europe/Vienna:20240121T130000
DTSTAMP:20260425T123516Z
UID:c8d31226d36748408a9dd4ad19a14701@www.akbild.ac.at
CATEGORIES:Vorträge / Veranstaltungen
CREATED:20231221T141508Z
DESCRIPTION:Performative catering from the studio of Scenography.
LAST-MODIFIED:20240802T102948Z
URL:https://www.akbild.ac.at/en/university/events/exhibitions_didacticprog
 ram/2024/open-days-2024/ewiges-suppchen-en-4
END:VEVENT
BEGIN:VTIMEZONE
TZID:Europe/Vienna
X-LIC-LOCATION:Europe/Vienna
BEGIN:STANDARD
DTSTART:20231029T020000
TZNAME:CET
TZOFFSETFROM:+0200
TZOFFSETTO:+0100
END:STANDARD
END:VTIMEZONE
END:VCALENDAR
