BEGIN:VCALENDAR
VERSION:2.0
PRODID:-//Plone.org//NONSGML plone.app.event//EN
X-WR-TIMEZONE:Europe/Vienna
BEGIN:VEVENT
SUMMARY:Flora and Trauma
DTSTART;TZID=Europe/Vienna:20240120T210000
DTSTAMP:20260424T084300Z
UID:570469d6d87249cc9230a1576bf37990@www.akbild.ac.at
CATEGORIES:Vorträge / Veranstaltungen
CREATED:20231218T094331Z
DESCRIPTION:Videoinstallation by GORGON*URBAN x assembler. Studio Art and 
 Intervention | Concept
LAST-MODIFIED:20240802T102944Z
URL:https://www.akbild.ac.at/en/university/events/exhibitions_didacticprog
 ram/2024/open-days-2024/flora-trauma
END:VEVENT
BEGIN:VTIMEZONE
TZID:Europe/Vienna
X-LIC-LOCATION:Europe/Vienna
BEGIN:STANDARD
DTSTART:20231029T020000
TZNAME:CET
TZOFFSETFROM:+0200
TZOFFSETTO:+0100
END:STANDARD
END:VTIMEZONE
END:VCALENDAR
