BEGIN:VCALENDAR
VERSION:2.0
PRODID:-//Plone.org//NONSGML plone.app.event//EN
X-WR-TIMEZONE:Europe/Vienna
BEGIN:VEVENT
SUMMARY:Guided tour through the exhibition Onion Look Mess of Modern Minds
DTSTART;TZID=Europe/Vienna:20240119T183000
DTSTAMP:20260423T012739Z
UID:475387786ea14ac2b359048b24c9ca1b@www.akbild.ac.at
CATEGORIES:Führungen
CREATED:20231218T181759Z
LAST-MODIFIED:20240802T102944Z
URL:https://www.akbild.ac.at/en/university/events/exhibitions_didacticprog
 ram/2024/open-days-2024/guided-tour-through-the-exhibition-onion-look-mess
 -of-modern-minds
END:VEVENT
BEGIN:VTIMEZONE
TZID:Europe/Vienna
X-LIC-LOCATION:Europe/Vienna
BEGIN:STANDARD
DTSTART:20231029T020000
TZNAME:CET
TZOFFSETFROM:+0200
TZOFFSETTO:+0100
END:STANDARD
END:VTIMEZONE
END:VCALENDAR
