BEGIN:VCALENDAR
VERSION:2.0
PRODID:-//Plone.org//NONSGML plone.app.event//EN
X-WR-TIMEZONE:Europe/Vienna
BEGIN:VEVENT
SUMMARY:Introducing Artistic Provenance Research (and how to interview the
  dead)
DTSTART;TZID=Europe/Vienna:20240118T180000
DTEND;TZID=Europe/Vienna:20240118T200000
DTSTAMP:20260425T040055Z
UID:91142d6b1ccd4baa807b8589511e25c0@www.akbild.ac.at
CATEGORIES:Vorträge / Veranstaltungen
CREATED:20240111T101909Z
DESCRIPTION:Lecture by Tal Adler as part of the IBK lecture series\, organ
 ized by the Media Lab\, Friedemann Derschmidt.
LAST-MODIFIED:20240802T102948Z
URL:https://www.akbild.ac.at/en/university/events/exhibitions_didacticprog
 ram/2024/open-days-2024/introducing-artistic-provenance-research-and-how-t
 o-interview-the-dead
END:VEVENT
BEGIN:VTIMEZONE
TZID:Europe/Vienna
X-LIC-LOCATION:Europe/Vienna
BEGIN:STANDARD
DTSTART:20231029T020000
TZNAME:CET
TZOFFSETFROM:+0200
TZOFFSETTO:+0100
END:STANDARD
END:VTIMEZONE
END:VCALENDAR
