BEGIN:VCALENDAR
VERSION:2.0
PRODID:-//Plone.org//NONSGML plone.app.event//EN
X-WR-TIMEZONE:Europe/Vienna
BEGIN:VEVENT
SUMMARY:Lift-Bar
DTSTART;TZID=Europe/Vienna:20240118T150000
DTSTAMP:20260422T052539Z
UID:ee8401c2ff464cecbc91e4bf81ea2f27@www.akbild.ac.at
CATEGORIES:Vorträge / Veranstaltungen
CREATED:20240117T143800Z
DESCRIPTION:From Paul Schurich\, Master-student at the Institute for Art a
 nd Architecture. The bar was a project at the Studio Off-Grid.
LAST-MODIFIED:20240802T102948Z
URL:https://www.akbild.ac.at/en/university/events/exhibitions_didacticprog
 ram/2024/open-days-2024/lift-bar
END:VEVENT
BEGIN:VTIMEZONE
TZID:Europe/Vienna
X-LIC-LOCATION:Europe/Vienna
BEGIN:STANDARD
DTSTART:20231029T020000
TZNAME:CET
TZOFFSETFROM:+0200
TZOFFSETTO:+0100
END:STANDARD
END:VTIMEZONE
END:VCALENDAR
