BEGIN:VCALENDAR
VERSION:2.0
PRODID:-//Plone.org//NONSGML plone.app.event//EN
X-WR-TIMEZONE:Europe/Vienna
BEGIN:VEVENT
SUMMARY:Living with an Infected Planet
DTSTART;TZID=Europe/Vienna:20240119T200000
DTSTAMP:20260424T132257Z
UID:a4e5d1835f734dceb3e3b062c3adbd49@www.akbild.ac.at
CATEGORIES:Vorträge / Veranstaltungen
CREATED:20231218T154936Z
DESCRIPTION:Book presentation and discussion with the author Elke Krasny L
 iving with an Infected Planet. COVID-19\, Feminism\, and the Global Frontl
 ine of Care moderated by Hansel Sato and Marie-Christine Hartig.
LAST-MODIFIED:20240802T102944Z
URL:https://www.akbild.ac.at/en/university/events/exhibitions_didacticprog
 ram/2024/open-days-2024/living-with-an-infected-planet
END:VEVENT
BEGIN:VTIMEZONE
TZID:Europe/Vienna
X-LIC-LOCATION:Europe/Vienna
BEGIN:STANDARD
DTSTART:20231029T020000
TZNAME:CET
TZOFFSETFROM:+0200
TZOFFSETTO:+0100
END:STANDARD
END:VTIMEZONE
END:VCALENDAR
